BEGIN:VCALENDAR
VERSION:2.0
PRODID:-//Department of Community Safety Eastern Cape - ECPv4.7.4//NONSGML v1.0//EN
CALSCALE:GREGORIAN
METHOD:PUBLISH
X-WR-CALNAME:Department of Community Safety Eastern Cape
X-ORIGINAL-URL:https://safetyec.azurewebsites.net
X-WR-CALDESC:Events for Department of Community Safety Eastern Cape
BEGIN:VEVENT
DTSTART;TZID=UTC+0:20221117T090000
DTEND;TZID=UTC+0:20221117T160000
DTSTAMP:20260422T103353
CREATED:20221114T124623Z
LAST-MODIFIED:20221114T124623Z
UID:1881-1668675600-1668700800@safetyec.azurewebsites.net
SUMMARY:Community Safety Imbizo
DESCRIPTION: \nvar hupso_services_t=new Array();var hupso_background_t="#EAF4FF";var hupso_border_t="#66CCFF";var hupso_toolbar_size_t="small";var hupso_image_folder_url = "";var hupso_url_t="";var hupso_title_t="Community%20Safety%20Imbizo";
URL:https://safetyec.azurewebsites.net/event/community-safety-imbizo/
END:VEVENT
END:VCALENDAR