BEGIN:VCALENDAR
VERSION:2.0
PRODID:-//Department of Community Safety Eastern Cape - ECPv4.7.4//NONSGML v1.0//EN
CALSCALE:GREGORIAN
METHOD:PUBLISH
X-WR-CALNAME:Department of Community Safety Eastern Cape
X-ORIGINAL-URL:https://safetyec.azurewebsites.net
X-WR-CALDESC:Events for Department of Community Safety Eastern Cape
BEGIN:VEVENT
DTSTART;VALUE=DATE:20240423
DTEND;VALUE=DATE:20240424
DTSTAMP:20260422T054021
CREATED:20240418T073324Z
LAST-MODIFIED:20240418T073324Z
UID:2193-1713830400-1713916799@safetyec.azurewebsites.net
SUMMARY:Policing Accountability Engagement
DESCRIPTION:var hupso_services_t=new Array();var hupso_background_t="#EAF4FF";var hupso_border_t="#66CCFF";var hupso_toolbar_size_t="small";var hupso_image_folder_url = "";var hupso_url_t="";var hupso_title_t="Policing%20Accountability%20Engagement";
URL:https://safetyec.azurewebsites.net/event/policing-accountability-engagement/
END:VEVENT
END:VCALENDAR